BEGIN:VCALENDAR
VERSION:2.0
PRODID:-//CANTABRIA EN ROSA - ECPv5.10.0//NONSGML v1.0//EN
CALSCALE:GREGORIAN
METHOD:PUBLISH
X-WR-CALNAME:CANTABRIA EN ROSA
X-ORIGINAL-URL:https://cantabriaenrosa.com
X-WR-CALDESC:Eventos para CANTABRIA EN ROSA
BEGIN:VTIMEZONE
TZID:Europe/Madrid
BEGIN:DAYLIGHT
TZOFFSETFROM:+0100
TZOFFSETTO:+0200
TZNAME:CEST
DTSTART:20250330T010000
END:DAYLIGHT
BEGIN:STANDARD
TZOFFSETFROM:+0200
TZOFFSETTO:+0100
TZNAME:CET
DTSTART:20251026T010000
END:STANDARD
END:VTIMEZONE
BEGIN:VEVENT
DTSTART;TZID=Europe/Madrid:20250516T180000
DTEND;TZID=Europe/Madrid:20250518T180000
DTSTAMP:20260425T161908
CREATED:20250410T123843Z
LAST-MODIFIED:20250505T082321Z
UID:1793-1747418400-1747591200@cantabriaenrosa.com
SUMMARY:3er FESTIVAL DRAGÓN BOAT - BAHÍA DE SANTOÑA (Categoría BCS) - III MEMORIAL LOLA ECHEVARRÍA
DESCRIPTION:3er FESTIVAL DRAGÓN BOAT BAHÍA DE SANTOÑA (Categoría BCS) – III MEMORIAL LOLA ECHEVARRÍA \n¡𝗬𝗮 𝘁𝗲𝗻𝗲𝗺𝗼𝘀 𝗳𝗲𝗰𝗵𝗮!\n🏆🚣‍♀️ El 𝙄𝙄𝙄 𝙁𝙚𝙨𝙩𝙞𝙫𝙖𝙡 𝘿𝙧𝙖𝙜𝙤𝙣 𝘽𝙤𝙖𝙩 𝘾𝙖𝙣𝙩𝙖𝙗𝙧𝙞𝙖 𝙚𝙣 𝙍𝙤𝙨𝙖 – 𝙄𝙄𝙄 𝙈𝙚𝙢𝙤𝙧𝙞𝙖𝙡 𝙇𝙤𝙡𝙖 𝙀𝙘𝙝𝙚𝙫𝙖𝙧𝙧𝙞𝙖 🚣‍♀️🏆 se celebrará el fin de semana del 𝟭𝟲\, 𝟭𝟳 𝘆 𝟭𝟴 de 𝗺𝗮𝘆𝗼 en la Bahía de Santoña. \n🌊 Santoña se llena de energía y solidaridad en una jornada única\, llena de fuerza\, emoción y compañerismo\, remando juntas contra el cáncer de mama 🎀 \nVen a disfrutar de la emoción del 𝗗𝗿𝗮𝗴𝗼𝗻 𝗕𝗼𝗮𝘁 🐲 un deporte inclusivo\, vibrante y lleno de espíritu de equipo. \nEl 3er FESTIVAL DRAGÓN BOAT BAHÍA DE SANTOÑA no sería posible sin el apoyo de las entidades que creen en nuestro proyecto y nos acompañan en cada palada. \nGracias de corazón a:\n– Ayuntamiento Santoña\n– Turismo Santoña\n– Sabe a Norte productos Cantabria\n– Gobierno de Cantabria- ODECA\n– Cofradía de pescadores de Santoña\n– Centro Ganesha\n– Federación Cántabra de Piragüismo\n– Peña Juan de la Cosa\n– Peña Los Ronceros\n– Seguros Murimar\n– Lupa supermercados\n– Power gym cartes\n– Amigos de la canción\n– Clínica Proboca\n– Distribuciones Montes Santoña\n– Grupo Consorcio\n– Estelas Rosas\n– Panificadora Santoña\n– Café Dromedario\n– Blendio \nPor remar con nosotras y hacer posible esta gran marea rosa. \n¡Reserva la fecha 📅 y prepárate para un día inolvidable! Muy pronto compartiremos toda la programación. \n✨ No importa si eres principiante o experta\, ¡lo importante es unirse a esta gran marea rosa!\n💖 Ven a animar\, participa y comparte esta experiencia inolvidable. Porque juntas\, somos más fuertes. 💪💗 \nUn año más gracias a Marta Purón por el cartel tan bonito que ha hecho 🧡💪🏻 \n#CantabriaEnRosa #DragonBoat #dragonboat2025 #IIIFestivalDragonBoat #Santoña #JuntasMasFuertes #remamosjuntasporlavida #deporteysalud #deporte
URL:https://cantabriaenrosa.com/event/3er-festival-dragon-boat-bahia-de-santona-categoria-bcs-iii-memorial-lola-echevarria/
LOCATION:La Machina\, SANTOÑA\, La Machina\, Santoña\, Cantabria\, 39740\, España
CATEGORIES:Charla informativa Asociación,Evento Benéfico,Eventos Deportivos
ATTACH;FMTTYPE=image/jpeg:https://cantabriaenrosa.com/wp-content/uploads/2025/04/WhatsApp-Image-2025-04-03-at-18.42.31.jpeg
ORGANIZER;CN="Asociaci%C3%B3n%20Cantabria%20en%20Rosa":MAILTO:cantabriaenrosa@gmail.com
END:VEVENT
END:VCALENDAR