BEGIN:VCALENDAR
VERSION:2.0
PRODID:-//CANTABRIA EN ROSA - ECPv5.10.0//NONSGML v1.0//EN
CALSCALE:GREGORIAN
METHOD:PUBLISH
X-WR-CALNAME:CANTABRIA EN ROSA
X-ORIGINAL-URL:https://cantabriaenrosa.com
X-WR-CALDESC:Eventos para CANTABRIA EN ROSA
BEGIN:VTIMEZONE
TZID:Europe/Madrid
BEGIN:DAYLIGHT
TZOFFSETFROM:+0100
TZOFFSETTO:+0200
TZNAME:CEST
DTSTART:20240331T010000
END:DAYLIGHT
BEGIN:STANDARD
TZOFFSETFROM:+0200
TZOFFSETTO:+0100
TZNAME:CET
DTSTART:20241027T010000
END:STANDARD
END:VTIMEZONE
BEGIN:VEVENT
DTSTART;TZID=Europe/Madrid:20241026T100000
DTEND;TZID=Europe/Madrid:20241026T130000
DTSTAMP:20260425T193659
CREATED:20241015T090921Z
LAST-MODIFIED:20241015T122006Z
UID:1639-1729936800-1729947600@cantabriaenrosa.com
SUMMARY:JORNADA PUERTAS ABIERTAS BARCO DRAGÓN 26 DE OCTUBRE
DESCRIPTION:Nos alegramos de poder compartir con vosotr@s la próxima 𝙅𝙊𝙍𝙉𝘼𝘿𝘼 𝘿𝙀 𝙋𝙐𝙀𝙍𝙏𝘼𝙎 𝘼𝘽𝙄𝙀𝙍𝙏𝘼𝙎 de barco dragón 🐲 que celebraremos en Santoña el próximo sábado 26 de octubre con el apoyo de Voluntariado Caixabank  \n¡Conoce nuestra asociación y anímate a remar en nuestro barco dragón! \n¿𝗗𝗼𝗻𝗱𝗲? 📍 En la Rampa Secadero en Santoña\n¿𝗛𝗼𝗿𝗮? ⏰ De 10:00 a 13:00 horas \nSi estas pasando\, o has pasado por un #cancerdemama ven a probar los beneficios que tiene para nosotr@s esta modalidad deportiva. \nDespués de la jornada procederemos a realizar la ceremonia de las flores 🌺 en homenaje a nuestras compañeras Isabel y Esther 💫 \n🎀 ¡OS ESPERAMOS! 🎀
URL:https://cantabriaenrosa.com/event/jornada-puertas-abiertas-barco-dragon-26-de-octubre/
LOCATION:Santoña
CATEGORIES:Charla informativa Asociación,Evento Benéfico,Eventos Deportivos
ATTACH;FMTTYPE=image/jpeg:https://cantabriaenrosa.com/wp-content/uploads/2024/10/CARTEL-JORNADA-PUERTAS-ABIERTAS-26-OCTUBRE-2024.jpeg
ORGANIZER;CN="Asociaci%C3%B3n%20Cantabria%20en%20Rosa":MAILTO:cantabriaenrosa@gmail.com
END:VEVENT
END:VCALENDAR