BEGIN:VCALENDAR
VERSION:2.0
PRODID:-//CANTABRIA EN ROSA - ECPv5.10.0//NONSGML v1.0//EN
CALSCALE:GREGORIAN
METHOD:PUBLISH
X-WR-CALNAME:CANTABRIA EN ROSA
X-ORIGINAL-URL:https://cantabriaenrosa.com
X-WR-CALDESC:Eventos para CANTABRIA EN ROSA
BEGIN:VTIMEZONE
TZID:Europe/Madrid
BEGIN:DAYLIGHT
TZOFFSETFROM:+0100
TZOFFSETTO:+0200
TZNAME:CEST
DTSTART:20190331T010000
END:DAYLIGHT
BEGIN:STANDARD
TZOFFSETFROM:+0200
TZOFFSETTO:+0100
TZNAME:CET
DTSTART:20191027T010000
END:STANDARD
END:VTIMEZONE
BEGIN:VEVENT
DTSTART;TZID=Europe/Madrid:20190519T090000
DTEND;TZID=Europe/Madrid:20190519T190000
DTSTAMP:20260424T193055
CREATED:20190508T133707Z
LAST-MODIFIED:20190508T133707Z
UID:1196-1558256400-1558292400@cantabriaenrosa.com
SUMMARY:2nd Barcelona International Dragon Boat Festival
DESCRIPTION:Cantabria en Rosa participará en el II Festival Dragon Boat Barcelona . \nEste festival ofrecerá el Domingo sus carreras BCS\, así como\, recaudará fondos contra el Cáncer. \nDomingo\, participaremos en las carreras BCS\, Ceremonia de las flores y entrega de premios.
URL:https://cantabriaenrosa.com/event/2nd-barcelona-international-dragon-boat-festival/
CATEGORIES:Eventos Deportivos
END:VEVENT
END:VCALENDAR