BEGIN:VCALENDAR
VERSION:2.0
PRODID:-//CANTABRIA EN ROSA - ECPv5.10.0//NONSGML v1.0//EN
CALSCALE:GREGORIAN
METHOD:PUBLISH
X-WR-CALNAME:CANTABRIA EN ROSA
X-ORIGINAL-URL:https://cantabriaenrosa.com
X-WR-CALDESC:Eventos para CANTABRIA EN ROSA
BEGIN:VTIMEZONE
TZID:Europe/Madrid
BEGIN:DAYLIGHT
TZOFFSETFROM:+0100
TZOFFSETTO:+0200
TZNAME:CEST
DTSTART:20190331T010000
END:DAYLIGHT
BEGIN:STANDARD
TZOFFSETFROM:+0200
TZOFFSETTO:+0100
TZNAME:CET
DTSTART:20191027T010000
END:STANDARD
END:VTIMEZONE
BEGIN:VEVENT
DTSTART;TZID=Europe/Madrid:20190408T180000
DTEND;TZID=Europe/Madrid:20190408T193000
DTSTAMP:20260425T030550
CREATED:20190327T144841Z
LAST-MODIFIED:20190327T145125Z
UID:1052-1554746400-1554751800@cantabriaenrosa.com
SUMMARY:Charla Deporte Cáncer
DESCRIPTION:Charla en Boo de Piélagos sobre salud y hábitos de vida saludables. \nDeporte\, alimentación  y los efectos beneficiosos que tienen para todos y cómo nos protegen del cáncer. Charla a cargo de las Drs. del servicio de Rehabilitación de Valdecilla\, Mª Jose Sánchez y Sonia López.
URL:https://cantabriaenrosa.com/event/charla-deporte-cancer-2/
LOCATION:Boo Piélagos
CATEGORIES:Charla informativa Asociación
END:VEVENT
END:VCALENDAR