BEGIN:VCALENDAR
VERSION:2.0
PRODID:-//CANTABRIA EN ROSA - ECPv5.10.0//NONSGML v1.0//EN
CALSCALE:GREGORIAN
METHOD:PUBLISH
X-WR-CALNAME:CANTABRIA EN ROSA
X-ORIGINAL-URL:https://cantabriaenrosa.com
X-WR-CALDESC:Eventos para CANTABRIA EN ROSA
BEGIN:VTIMEZONE
TZID:UTC
BEGIN:STANDARD
TZOFFSETFROM:+0000
TZOFFSETTO:+0000
TZNAME:UTC
DTSTART:20180101T000000
END:STANDARD
END:VTIMEZONE
BEGIN:VEVENT
DTSTART;TZID=UTC:20180629T180000
DTEND;TZID=UTC:20180629T193000
DTSTAMP:20260425T013111
CREATED:20180611T115654Z
LAST-MODIFIED:20180611T115814Z
UID:676-1530295200-1530300600@cantabriaenrosa.com
SUMMARY:Charla Deporte y Cáncer Santoña
DESCRIPTION:Charla sobre Cáncer y Deporte a cargo de dos Médicos de Rehabilitación de \nValdecilla en Santoña. \nTambién se explicará en qué consiste la Asociación Cantabria en Rosa y la futura implantación de un equipo de Dragón Boat para mujeres afectadas por cáncer de mama\, familiares y amigos. Este equipo realizará su actividad en el Club Remo Santoña\, gracias a la colaboración de la directiva. \n¡¡¡Acércate!!!  Nos interesa a todos. \nGoogle Maps
URL:https://cantabriaenrosa.com/event/charla-deporte-y-cancer-santona/
LOCATION:Santoña\, Paseo Camilo José Cela\, 1\, 39740 Santoña\, Cantabria\, 39600\, España
CATEGORIES:Charla informativa Asociación
ORGANIZER;CN="Asociaci%C3%B3n%20Cantabria%20en%20Rosa":MAILTO:cantabriaenrosa@gmail.com
END:VEVENT
END:VCALENDAR