BEGIN:VCALENDAR
VERSION:2.0
PRODID:-//CANTABRIA EN ROSA - ECPv5.10.0//NONSGML v1.0//EN
CALSCALE:GREGORIAN
METHOD:PUBLISH
X-WR-CALNAME:CANTABRIA EN ROSA
X-ORIGINAL-URL:https://cantabriaenrosa.com
X-WR-CALDESC:Eventos para CANTABRIA EN ROSA
BEGIN:VTIMEZONE
TZID:Europe/Madrid
BEGIN:DAYLIGHT
TZOFFSETFROM:+0100
TZOFFSETTO:+0200
TZNAME:CEST
DTSTART:20190331T010000
END:DAYLIGHT
BEGIN:STANDARD
TZOFFSETFROM:+0200
TZOFFSETTO:+0100
TZNAME:CET
DTSTART:20191027T010000
END:STANDARD
END:VTIMEZONE
BEGIN:VEVENT
DTSTART;TZID=Europe/Madrid:20190914T093000
DTEND;TZID=Europe/Madrid:20190915T200000
DTSTAMP:20260424T235144
CREATED:20190913T120858Z
LAST-MODIFIED:20190913T120858Z
UID:1253-1568453400-1568577600@cantabriaenrosa.com
SUMMARY:CrossFitnes Santoña
DESCRIPTION:Este fin de semana\, días 14&15 CrossFitnes en Santoña. \nEstaremos con nuestro stand solidario.\n¡Pásate!
URL:https://cantabriaenrosa.com/event/crossfitnes-santona/
LOCATION:Santoña
CATEGORIES:Eventos Deportivos
END:VEVENT
END:VCALENDAR