BEGIN:VCALENDAR
VERSION:2.0
PRODID:-//CANTABRIA EN ROSA - ECPv5.10.0//NONSGML v1.0//EN
CALSCALE:GREGORIAN
METHOD:PUBLISH
X-WR-CALNAME:CANTABRIA EN ROSA
X-ORIGINAL-URL:https://cantabriaenrosa.com
X-WR-CALDESC:Eventos para CANTABRIA EN ROSA
BEGIN:VTIMEZONE
TZID:Europe/Madrid
BEGIN:DAYLIGHT
TZOFFSETFROM:+0100
TZOFFSETTO:+0200
TZNAME:CEST
DTSTART:20180325T010000
END:DAYLIGHT
BEGIN:STANDARD
TZOFFSETFROM:+0200
TZOFFSETTO:+0100
TZNAME:CET
DTSTART:20181028T010000
END:STANDARD
END:VTIMEZONE
BEGIN:VEVENT
DTSTART;VALUE=DATE:20180822
DTEND;VALUE=DATE:20180823
DTSTAMP:20260425T012935
CREATED:20180803T165037Z
LAST-MODIFIED:20180925T210206Z
UID:745-1534896000-1534982399@cantabriaenrosa.com
SUMMARY:Entrenamiento Dragon Boat en Parayas
DESCRIPTION:Todos los miércoles a las 6 de la tarde entrenamos en Punta Parayas gracias a la colaboración \ndel Club Remo Camargo.
URL:https://cantabriaenrosa.com/event/entrenamiento-dragon-boat-en-parayas-2/
LOCATION:Club de Remo Camargo en Parayas.\, Parayas\, Maliaño - Camargo\, Cantabria\, 39600\, España
ORGANIZER;CN="Asociaci%C3%B3n%20Cantabria%20en%20Rosa":MAILTO:cantabriaenrosa@gmail.com
END:VEVENT
END:VCALENDAR