BEGIN:VCALENDAR
VERSION:2.0
PRODID:-//CANTABRIA EN ROSA - ECPv5.10.0//NONSGML v1.0//EN
CALSCALE:GREGORIAN
METHOD:PUBLISH
X-WR-CALNAME:CANTABRIA EN ROSA
X-ORIGINAL-URL:https://cantabriaenrosa.com
X-WR-CALDESC:Eventos para CANTABRIA EN ROSA
BEGIN:VTIMEZONE
TZID:Europe/Madrid
BEGIN:DAYLIGHT
TZOFFSETFROM:+0100
TZOFFSETTO:+0200
TZNAME:CEST
DTSTART:20180325T010000
END:DAYLIGHT
BEGIN:STANDARD
TZOFFSETFROM:+0200
TZOFFSETTO:+0100
TZNAME:CET
DTSTART:20181028T010000
END:STANDARD
END:VTIMEZONE
BEGIN:VEVENT
DTSTART;VALUE=DATE:20180815
DTEND;VALUE=DATE:20180816
DTSTAMP:20260424T235453
CREATED:20180803T164708Z
LAST-MODIFIED:20180803T164708Z
UID:743-1534291200-1534377599@cantabriaenrosa.com
SUMMARY:Entrenamiento Dragon Boat en Parayas
DESCRIPTION:Todos los miércoles a las 6 de la tarde entrenamos con nuestro barco Dragon en Punta Parayas. Agradecer la colaboración del Club Remo Camargo.
URL:https://cantabriaenrosa.com/event/entrenamiento-dragon-boat-en-parayas/
LOCATION:Club de Remo Camargo en Parayas.\, Parayas\, Maliaño - Camargo\, Cantabria\, 39600\, España
ORGANIZER;CN="Asociaci%C3%B3n%20Cantabria%20en%20Rosa":MAILTO:cantabriaenrosa@gmail.com
END:VEVENT
END:VCALENDAR