BEGIN:VCALENDAR
VERSION:2.0
PRODID:-//CANTABRIA EN ROSA - ECPv5.10.0//NONSGML v1.0//EN
CALSCALE:GREGORIAN
METHOD:PUBLISH
X-WR-CALNAME:CANTABRIA EN ROSA
X-ORIGINAL-URL:https://cantabriaenrosa.com
X-WR-CALDESC:Eventos para CANTABRIA EN ROSA
BEGIN:VTIMEZONE
TZID:Europe/Madrid
BEGIN:DAYLIGHT
TZOFFSETFROM:+0100
TZOFFSETTO:+0200
TZNAME:CEST
DTSTART:20200329T010000
END:DAYLIGHT
BEGIN:STANDARD
TZOFFSETFROM:+0200
TZOFFSETTO:+0100
TZNAME:CET
DTSTART:20201025T010000
END:STANDARD
END:VTIMEZONE
BEGIN:VEVENT
DTSTART;TZID=Europe/Madrid:20200207T170000
DTEND;TZID=Europe/Madrid:20200207T183000
DTSTAMP:20260425T024735
CREATED:20200205T202125Z
LAST-MODIFIED:20200205T202738Z
UID:1414-1581094800-1581100200@cantabriaenrosa.com
SUMMARY:Entrenamiento Remo Astillero
DESCRIPTION:Entrenamiento Remo Barco Dragón. \nSalida rampa\, zona Club de Remo Astillero junto a la ría. \nAgradecer la colaboración del Club Remo Astillero y al Ayto. Astillero.
URL:https://cantabriaenrosa.com/event/entrenamiento-dragon/
LOCATION:https://goo.gl/maps/Q5S4AmL931byWy9fA\, Calle Fernández Hontoria\, 28\,\, Astillero\, Cantabria\, 39610
CATEGORIES:Entrenamientos
END:VEVENT
END:VCALENDAR