BEGIN:VCALENDAR
VERSION:2.0
PRODID:-//CANTABRIA EN ROSA - ECPv5.10.0//NONSGML v1.0//EN
CALSCALE:GREGORIAN
METHOD:PUBLISH
X-WR-CALNAME:CANTABRIA EN ROSA
X-ORIGINAL-URL:https://cantabriaenrosa.com
X-WR-CALDESC:Eventos para CANTABRIA EN ROSA
BEGIN:VTIMEZONE
TZID:UTC
BEGIN:STANDARD
TZOFFSETFROM:+0000
TZOFFSETTO:+0000
TZNAME:UTC
DTSTART:20180101T000000
END:STANDARD
END:VTIMEZONE
BEGIN:VEVENT
DTSTART;TZID=UTC:20180613T180000
DTEND;TZID=UTC:20180613T190000
DTSTAMP:20260425T025008
CREATED:20180603T150526Z
LAST-MODIFIED:20180603T150526Z
UID:625-1528912800-1528916400@cantabriaenrosa.com
SUMMARY:Entrenamiento Parayas
DESCRIPTION:
URL:https://cantabriaenrosa.com/event/entrenamiento-parayas-4/
LOCATION:Club de Remo Camargo en Parayas.\, Parayas\, Maliaño - Camargo\, Cantabria\, 39600\, España
ORGANIZER;CN="Asociaci%C3%B3n%20Cantabria%20en%20Rosa":MAILTO:cantabriaenrosa@gmail.com
END:VEVENT
END:VCALENDAR