BEGIN:VCALENDAR
VERSION:2.0
PRODID:-//CANTABRIA EN ROSA - ECPv5.10.0//NONSGML v1.0//EN
CALSCALE:GREGORIAN
METHOD:PUBLISH
X-WR-CALNAME:CANTABRIA EN ROSA
X-ORIGINAL-URL:https://cantabriaenrosa.com
X-WR-CALDESC:Eventos para CANTABRIA EN ROSA
BEGIN:VTIMEZONE
TZID:Europe/Madrid
BEGIN:DAYLIGHT
TZOFFSETFROM:+0100
TZOFFSETTO:+0200
TZNAME:CEST
DTSTART:20190331T010000
END:DAYLIGHT
BEGIN:STANDARD
TZOFFSETFROM:+0200
TZOFFSETTO:+0100
TZNAME:CET
DTSTART:20191027T010000
END:STANDARD
END:VTIMEZONE
BEGIN:VEVENT
DTSTART;TZID=Europe/Madrid:20190123T173000
DTEND;TZID=Europe/Madrid:20190123T183000
DTSTAMP:20260425T024900
CREATED:20190118T152643Z
LAST-MODIFIED:20190118T152643Z
UID:915-1548264600-1548268200@cantabriaenrosa.com
SUMMARY:Entrenamiento Remo Dragon
DESCRIPTION:Todos los miércoles a las 6 de la tarde entrenamos con nuestro barco Dragon en Punta Parayas. Agradecer la colaboración del Club Remo Camargo.
URL:https://cantabriaenrosa.com/event/entrenamiento-remo-dragon/
LOCATION:Club de Remo Camargo en Parayas.\, Parayas\, Maliaño - Camargo\, Cantabria\, 39600\, España
ORGANIZER;CN="Asociaci%C3%B3n%20Cantabria%20en%20Rosa":MAILTO:cantabriaenrosa@gmail.com
END:VEVENT
END:VCALENDAR