BEGIN:VCALENDAR
VERSION:2.0
PRODID:-//CANTABRIA EN ROSA - ECPv5.10.0//NONSGML v1.0//EN
CALSCALE:GREGORIAN
METHOD:PUBLISH
X-WR-CALNAME:CANTABRIA EN ROSA
X-ORIGINAL-URL:https://cantabriaenrosa.com
X-WR-CALDESC:Eventos para CANTABRIA EN ROSA
BEGIN:VTIMEZONE
TZID:Europe/Madrid
BEGIN:DAYLIGHT
TZOFFSETFROM:+0100
TZOFFSETTO:+0200
TZNAME:CEST
DTSTART:20190331T010000
END:DAYLIGHT
BEGIN:STANDARD
TZOFFSETFROM:+0200
TZOFFSETTO:+0100
TZNAME:CET
DTSTART:20191027T010000
END:STANDARD
END:VTIMEZONE
BEGIN:VEVENT
DTSTART;TZID=Europe/Madrid:20190504T100000
DTEND;TZID=Europe/Madrid:20190504T210000
DTSTAMP:20260424T222030
CREATED:20190504T114954Z
LAST-MODIFIED:20190508T115524Z
UID:1178-1556964000-1557003600@cantabriaenrosa.com
SUMMARY:Feria de la Anchoa
DESCRIPTION:Cantabria en Rosa estará presente en la XX Feria de la Anchoa y la Conserva de Cantabria durante el fin de semana con un stand situado junto a la entrada de la carpa principal. \nGracias a todas las personas que colaboran con nosotras.
URL:https://cantabriaenrosa.com/event/feria-de-la-anchoa/
LOCATION:Santoña
CATEGORIES:Evento Benéfico
END:VEVENT
END:VCALENDAR