BEGIN:VCALENDAR
VERSION:2.0
PRODID:-//CANTABRIA EN ROSA - ECPv5.10.0//NONSGML v1.0//EN
CALSCALE:GREGORIAN
METHOD:PUBLISH
X-WR-CALNAME:CANTABRIA EN ROSA
X-ORIGINAL-URL:https://cantabriaenrosa.com
X-WR-CALDESC:Eventos para CANTABRIA EN ROSA
BEGIN:VTIMEZONE
TZID:Europe/Madrid
BEGIN:DAYLIGHT
TZOFFSETFROM:+0100
TZOFFSETTO:+0200
TZNAME:CEST
DTSTART:20190331T010000
END:DAYLIGHT
BEGIN:STANDARD
TZOFFSETFROM:+0200
TZOFFSETTO:+0100
TZNAME:CET
DTSTART:20191027T010000
END:STANDARD
END:VTIMEZONE
BEGIN:VEVENT
DTSTART;TZID=Europe/Madrid:20190615T100000
DTEND;TZID=Europe/Madrid:20190616T220000
DTSTAMP:20260424T191321
CREATED:20190610T135427Z
LAST-MODIFIED:20190610T135536Z
UID:1207-1560592800-1560722400@cantabriaenrosa.com
SUMMARY:Feria de Productores y Artesanos de Villaescusa
DESCRIPTION:Cantabria en Rosa estará con un Stand solidario en la Feria de Productores y Artesanos de Villaescusa.  Daremos información sobre quienes somos\, nuestras actividades y tendremos productos solidarios. \n¡¡¡ Ven a conocernos!!! \n \n  \nFacebook \nSÁBADO 15 Junio de 10:00 h a 22:00 h. \nApertura de la Feria de Productores y Artesanos de Villaescusa. \nDOMINGO 16 Junio \n-10:00 h Apertura de la Feria de Productores y Artesanos de Villaescusa.\n-10:00 h Inicio de las inscripciones para la Marcha Solidaría y el Día de la Bici en el stand de CANTABRIA EN ROSA.\n-11:00 h Inicio del recorrido de la Marcha Solidaria-\n-13:00 h Actuación del Grupo de Danzas Virgen de las Nieves de Tanos.\n-14:00 h Actuación del Grupo LOST IN COVERS.\n-16:00 h Taller de circo: MALABARACIRCO.\n-18:00 h Actuación del grupo CHIA CALEY.\n-19:00 h Degustación de productos agroalimentarios locales.\n-20:00 h Actuación del grupo ROYAL VINTAGE.\n-21:00 h Cierre de la feria.
URL:https://cantabriaenrosa.com/event/feria-de-productores-y-artesanos-de-villaescusa/
LOCATION:Parque de Rosequillo en La Concha de Villaescusa\, Barrio la Aldea\, 95\, La Concha\, Cantabria\, 39690\, España
CATEGORIES:Evento Benéfico
END:VEVENT
END:VCALENDAR