BEGIN:VCALENDAR
VERSION:2.0
PRODID:-//CANTABRIA EN ROSA - ECPv5.10.0//NONSGML v1.0//EN
CALSCALE:GREGORIAN
METHOD:PUBLISH
X-WR-CALNAME:CANTABRIA EN ROSA
X-ORIGINAL-URL:https://cantabriaenrosa.com
X-WR-CALDESC:Eventos para CANTABRIA EN ROSA
BEGIN:VTIMEZONE
TZID:UTC
BEGIN:STANDARD
TZOFFSETFROM:+0000
TZOFFSETTO:+0000
TZNAME:UTC
DTSTART:20180101T000000
END:STANDARD
END:VTIMEZONE
BEGIN:VEVENT
DTSTART;TZID=UTC:20180701T183000
DTEND;TZID=UTC:20180701T213000
DTSTAMP:20260424T235330
CREATED:20180611T121255Z
LAST-MODIFIED:20180620T120115Z
UID:683-1530469800-1530480600@cantabriaenrosa.com
SUMMARY:Fiesta Botadura de nuestro Barco Dragón
DESCRIPTION:Fiesta en el pantalan de Oruña de Piélagos por la Botadura de nuestro Barco Dragón. Nos acompañarán en el Evento Nando Agüeros\, Miguel Cadavieco\, Coro Ronda Garcilaso\, la Alcaldesa de Piélagos Verónica Samperio entre otros y Sardinada popular para los asistentes hasta fin de existencias.
URL:https://cantabriaenrosa.com/event/fiesta-botadura-de-nuestro-barco-dragon/
LOCATION:Pantalan de Oruña de Piélagos\, Barrio el Puente\, s/n\, Oruña de Piélagos\, Cantabria\, 39477\, España
CATEGORIES:Fiesta Botadura
ORGANIZER;CN="Asociaci%C3%B3n%20Cantabria%20en%20Rosa":MAILTO:cantabriaenrosa@gmail.com
END:VEVENT
END:VCALENDAR