BEGIN:VCALENDAR
VERSION:2.0
PRODID:-//CANTABRIA EN ROSA - ECPv5.10.0//NONSGML v1.0//EN
CALSCALE:GREGORIAN
METHOD:PUBLISH
X-WR-CALNAME:CANTABRIA EN ROSA
X-ORIGINAL-URL:https://cantabriaenrosa.com
X-WR-CALDESC:Eventos para CANTABRIA EN ROSA
BEGIN:VTIMEZONE
TZID:Europe/Madrid
BEGIN:DAYLIGHT
TZOFFSETFROM:+0100
TZOFFSETTO:+0200
TZNAME:CEST
DTSTART:20180325T010000
END:DAYLIGHT
BEGIN:STANDARD
TZOFFSETFROM:+0200
TZOFFSETTO:+0100
TZNAME:CET
DTSTART:20181028T010000
END:STANDARD
END:VTIMEZONE
BEGIN:VEVENT
DTSTART;TZID=Europe/Madrid:20181020T120000
DTEND;TZID=Europe/Madrid:20181020T133000
DTSTAMP:20260425T164910
CREATED:20181008T154901Z
LAST-MODIFIED:20181008T154946Z
UID:809-1540036800-1540042200@cantabriaenrosa.com
SUMMARY:I Exhibición Dragon Boat Avilés
DESCRIPTION:I Exhibición de Dragon Boat\n20 de Octubre 12:00 H. en la ría de Avilés en Asturias\,  palistas venidos de distintos lugares de España\, incluso desde su origen China. \nAllí estaremos con nuestro equipo BCS para compartir un día especial de convivencia.
URL:https://cantabriaenrosa.com/event/i-exhibicion-dragon-boat-aviles/
LOCATION:Aviles\, Centro Cultural Internacional Oscar Niemeyer\, aviles\, Asturias\, España
END:VEVENT
END:VCALENDAR