BEGIN:VCALENDAR
VERSION:2.0
PRODID:-//CANTABRIA EN ROSA - ECPv5.10.0//NONSGML v1.0//EN
CALSCALE:GREGORIAN
METHOD:PUBLISH
X-WR-CALNAME:CANTABRIA EN ROSA
X-ORIGINAL-URL:https://cantabriaenrosa.com
X-WR-CALDESC:Eventos para CANTABRIA EN ROSA
BEGIN:VTIMEZONE
TZID:Europe/Madrid
BEGIN:DAYLIGHT
TZOFFSETFROM:+0100
TZOFFSETTO:+0200
TZNAME:CEST
DTSTART:20190331T010000
END:DAYLIGHT
BEGIN:STANDARD
TZOFFSETFROM:+0200
TZOFFSETTO:+0100
TZNAME:CET
DTSTART:20191027T010000
END:STANDARD
END:VTIMEZONE
BEGIN:VEVENT
DTSTART;TZID=Europe/Madrid:20190126T090000
DTEND;TZID=Europe/Madrid:20190126T183000
DTSTAMP:20260425T013123
CREATED:20190118T154838Z
LAST-MODIFIED:20190118T154838Z
UID:926-1548493200-1548527400@cantabriaenrosa.com
SUMMARY:I Festival Dragon Boat Ciudad de Pontevedra
DESCRIPTION:Carrera- Festival Dragon Boat 26 Enero en Pontevedra. \nCantabria en Rosa estará presente con el equipo BCS (supervivientes cáncer mama)\, un día para compartir con las compañeras BCS y la familia del remo Dragon.
URL:https://cantabriaenrosa.com/event/i-festival-dragon-boat-ciudad-de-pontevedra/
LOCATION:Pontevedra\, Río Lérez\, Pantalán CGTD\, Pontevedra\, Pontevedra\, España
END:VEVENT
END:VCALENDAR