BEGIN:VCALENDAR
VERSION:2.0
PRODID:-//CANTABRIA EN ROSA - ECPv5.10.0//NONSGML v1.0//EN
CALSCALE:GREGORIAN
METHOD:PUBLISH
X-WR-CALNAME:CANTABRIA EN ROSA
X-ORIGINAL-URL:https://cantabriaenrosa.com
X-WR-CALDESC:Eventos para CANTABRIA EN ROSA
BEGIN:VTIMEZONE
TZID:Europe/Madrid
BEGIN:DAYLIGHT
TZOFFSETFROM:+0100
TZOFFSETTO:+0200
TZNAME:CEST
DTSTART:20190331T010000
END:DAYLIGHT
BEGIN:STANDARD
TZOFFSETFROM:+0200
TZOFFSETTO:+0100
TZNAME:CET
DTSTART:20191027T010000
END:STANDARD
END:VTIMEZONE
BEGIN:VEVENT
DTSTART;TZID=Europe/Madrid:20191019T080000
DTEND;TZID=Europe/Madrid:20191020T170000
DTSTAMP:20260425T012935
CREATED:20190913T182453Z
LAST-MODIFIED:20190913T182453Z
UID:1256-1571472000-1571590800@cantabriaenrosa.com
SUMMARY:IV International Dragon Boat Torrevieja
DESCRIPTION:Regata de Dragón Boat en Torrevieja los días 19 y 20 de Octubre.
URL:https://cantabriaenrosa.com/event/iv-international-dragon-boat-torrevieja/
LOCATION:Torrevieja\, Alicante
CATEGORIES:Eventos Deportivos
END:VEVENT
END:VCALENDAR