BEGIN:VCALENDAR
VERSION:2.0
PRODID:-//CANTABRIA EN ROSA - ECPv5.10.0//NONSGML v1.0//EN
CALSCALE:GREGORIAN
METHOD:PUBLISH
X-WR-CALNAME:CANTABRIA EN ROSA
X-ORIGINAL-URL:https://cantabriaenrosa.com
X-WR-CALDESC:Eventos para CANTABRIA EN ROSA
BEGIN:VTIMEZONE
TZID:Europe/Madrid
BEGIN:DAYLIGHT
TZOFFSETFROM:+0100
TZOFFSETTO:+0200
TZNAME:CEST
DTSTART:20200329T010000
END:DAYLIGHT
BEGIN:STANDARD
TZOFFSETFROM:+0200
TZOFFSETTO:+0100
TZNAME:CET
DTSTART:20201025T010000
END:STANDARD
END:VTIMEZONE
BEGIN:VEVENT
DTSTART;TZID=Europe/Madrid:20200308T100000
DTEND;TZID=Europe/Madrid:20200308T130000
DTSTAMP:20260424T235356
CREATED:20200304T124903Z
LAST-MODIFIED:20200304T124903Z
UID:1425-1583661600-1583672400@cantabriaenrosa.com
SUMMARY:Marcha Solidaria Contra el Cáncer 8 Marzo
DESCRIPTION:
URL:https://cantabriaenrosa.com/event/marcha-solidaria-contra-el-cancer-8-marzo/
LOCATION:Ayuntamiento de Villaescusa\, Villaescusa\, Cantabria\, 39690\, España
CATEGORIES:Eventos Deportivos
END:VEVENT
END:VCALENDAR