BEGIN:VCALENDAR
VERSION:2.0
PRODID:-//CANTABRIA EN ROSA - ECPv5.10.0//NONSGML v1.0//EN
CALSCALE:GREGORIAN
METHOD:PUBLISH
X-WR-CALNAME:CANTABRIA EN ROSA
X-ORIGINAL-URL:https://cantabriaenrosa.com
X-WR-CALDESC:Eventos para CANTABRIA EN ROSA
BEGIN:VTIMEZONE
TZID:Europe/Madrid
BEGIN:DAYLIGHT
TZOFFSETFROM:+0100
TZOFFSETTO:+0200
TZNAME:CEST
DTSTART:20190331T010000
END:DAYLIGHT
BEGIN:STANDARD
TZOFFSETFROM:+0200
TZOFFSETTO:+0100
TZNAME:CET
DTSTART:20191027T010000
END:STANDARD
END:VTIMEZONE
BEGIN:VEVENT
DTSTART;TZID=Europe/Madrid:20190616T100000
DTEND;TZID=Europe/Madrid:20190616T123000
DTSTAMP:20260424T204702
CREATED:20190610T144652Z
LAST-MODIFIED:20190611T103006Z
UID:1211-1560679200-1560688200@cantabriaenrosa.com
SUMMARY:Marcha Solidaria y día de la Bicicleta
DESCRIPTION:RECORRIDO DE LA MARCHA SOLIDARIA Domingo 16/06.\n  \nRecogida dorsales solidarios a las 10:00 h. coste 2 €. \nSalida de la marcha solidaria a las 11:00 h del parque de Rosequillo en dirección al carril/bici junto a la estación de la Concha. \nEl recorrido será por el carril/bici SENDA VERDE DEL PAS hasta la la entrada al Parque de la Naturaleza de Cabárceno\, avituallamiento y regreso por el carril/bici MINERO OBREGÓN hasta el Parque Rosequillo. \nFin de la marcha\, un recorrido totalmente llano de unos 4 km.
URL:https://cantabriaenrosa.com/event/marcha-solidaria-y-dia-de-la-bicicleta/
LOCATION:Parque de Rosequillo en La Concha de Villaescusa\, Barrio la Aldea\, 95\, La Concha\, Cantabria\, 39690\, España
CATEGORIES:Evento Benéfico,Eventos Deportivos
END:VEVENT
END:VCALENDAR