BEGIN:VCALENDAR
VERSION:2.0
PRODID:-//CANTABRIA EN ROSA - ECPv5.10.0//NONSGML v1.0//EN
CALSCALE:GREGORIAN
METHOD:PUBLISH
X-WR-CALNAME:CANTABRIA EN ROSA
X-ORIGINAL-URL:https://cantabriaenrosa.com
X-WR-CALDESC:Eventos para CANTABRIA EN ROSA
BEGIN:VTIMEZONE
TZID:Europe/Madrid
BEGIN:DAYLIGHT
TZOFFSETFROM:+0100
TZOFFSETTO:+0200
TZNAME:CEST
DTSTART:20190331T010000
END:DAYLIGHT
BEGIN:STANDARD
TZOFFSETFROM:+0200
TZOFFSETTO:+0100
TZNAME:CET
DTSTART:20191027T010000
END:STANDARD
END:VTIMEZONE
BEGIN:VEVENT
DTSTART;TZID=Europe/Madrid:20190330T110000
DTEND;TZID=Europe/Madrid:20190330T130000
DTSTAMP:20260424T222107
CREATED:20190327T122139Z
LAST-MODIFIED:20190327T122205Z
UID:1047-1553943600-1553950800@cantabriaenrosa.com
SUMMARY:Salida Entrenamiento Barco Dragón
DESCRIPTION:Salida a las 11:00 de la mañana para entrenamiento con nuestro barco Dragón en Punta Parayas. \nAgradecer la colaboración del Club Remo Camargo.
URL:https://cantabriaenrosa.com/event/salida-entrenamiento-barco-dragon-2/
LOCATION:Club de Remo Camargo en Parayas.\, Parayas\, Maliaño - Camargo\, Cantabria\, 39600\, España
CATEGORIES:Entrenamientos
ORGANIZER;CN="Asociaci%C3%B3n%20Cantabria%20en%20Rosa":MAILTO:cantabriaenrosa@gmail.com
END:VEVENT
END:VCALENDAR