BEGIN:VCALENDAR
VERSION:2.0
PRODID:-//CANTABRIA EN ROSA - ECPv5.10.0//NONSGML v1.0//EN
CALSCALE:GREGORIAN
METHOD:PUBLISH
X-WR-CALNAME:CANTABRIA EN ROSA
X-ORIGINAL-URL:https://cantabriaenrosa.com
X-WR-CALDESC:Eventos para CANTABRIA EN ROSA
BEGIN:VTIMEZONE
TZID:Europe/Madrid
BEGIN:DAYLIGHT
TZOFFSETFROM:+0100
TZOFFSETTO:+0200
TZNAME:CEST
DTSTART:20180325T010000
END:DAYLIGHT
BEGIN:STANDARD
TZOFFSETFROM:+0200
TZOFFSETTO:+0100
TZNAME:CET
DTSTART:20181028T010000
END:STANDARD
END:VTIMEZONE
BEGIN:VEVENT
DTSTART;TZID=Europe/Madrid:20181109T170000
DTEND;TZID=Europe/Madrid:20181109T180000
DTSTAMP:20260425T125344
CREATED:20181120T114357Z
LAST-MODIFIED:20181120T114357Z
UID:868-1541782800-1541786400@cantabriaenrosa.com
SUMMARY:Sevillanas
DESCRIPTION:Todos los viernes de 17 a 18 H\, Sevillanas  . Una  actividad de #cantabriaenrosa gracias a la profesora Marta Ramos Ramos y a a la A.A.V.V. Los Arenales
URL:https://cantabriaenrosa.com/event/sevillanas-2/
LOCATION:A.A.V.V. Los Arenales\, Santander\, C/ General Moscardo 8 bajo\, Santander\, cantabria\, 39009\, España
ORGANIZER;CN="Asociaci%C3%B3n%20Cantabria%20en%20Rosa":MAILTO:cantabriaenrosa@gmail.com
END:VEVENT
END:VCALENDAR