BEGIN:VCALENDAR
VERSION:2.0
PRODID:-//CANTABRIA EN ROSA - ECPv5.10.0//NONSGML v1.0//EN
CALSCALE:GREGORIAN
METHOD:PUBLISH
X-WR-CALNAME:CANTABRIA EN ROSA
X-ORIGINAL-URL:https://cantabriaenrosa.com
X-WR-CALDESC:Eventos para CANTABRIA EN ROSA
BEGIN:VTIMEZONE
TZID:Europe/Madrid
BEGIN:DAYLIGHT
TZOFFSETFROM:+0100
TZOFFSETTO:+0200
TZNAME:CEST
DTSTART:20190331T010000
END:DAYLIGHT
BEGIN:STANDARD
TZOFFSETFROM:+0200
TZOFFSETTO:+0100
TZNAME:CET
DTSTART:20191027T010000
END:STANDARD
END:VTIMEZONE
BEGIN:VEVENT
DTSTART;TZID=Europe/Madrid:20190420T173000
DTEND;TZID=Europe/Madrid:20190420T183000
DTSTAMP:20260425T012653
CREATED:20190407T195303Z
LAST-MODIFIED:20190407T195303Z
UID:1157-1555781400-1555785000@cantabriaenrosa.com
SUMMARY:Tiro con Arco
DESCRIPTION:Ampliando actividades gracias al Club Arco Santander\, comenzaremos la práctica de Tiro con Arco. Otra actividad recomendada para la mejora de las secuelas tras un Cáncer de mama. \nComenzaremos un curso de iniciación a cargo de Conchi Coca. \n¡¡¡MUCHAS GRACIAS!!!
URL:https://cantabriaenrosa.com/event/tiro-con-arco/
LOCATION:Pabellon Alberto Pico\, Calle Castilla 64\, Santander\, Cantabria\, 39009\, Spain
CATEGORIES:Entrenamientos
END:VEVENT
END:VCALENDAR