BEGIN:VCALENDAR
VERSION:2.0
PRODID:-//CANTABRIA EN ROSA - ECPv5.10.0//NONSGML v1.0//EN
CALSCALE:GREGORIAN
METHOD:PUBLISH
X-WR-CALNAME:CANTABRIA EN ROSA
X-ORIGINAL-URL:https://cantabriaenrosa.com
X-WR-CALDESC:Eventos para CANTABRIA EN ROSA
BEGIN:VTIMEZONE
TZID:UTC
BEGIN:STANDARD
TZOFFSETFROM:+0000
TZOFFSETTO:+0000
TZNAME:UTC
DTSTART:20180101T000000
END:STANDARD
END:VTIMEZONE
BEGIN:VEVENT
DTSTART;TZID=UTC:20180526T100000
DTEND;TZID=UTC:20180526T203000
DTSTAMP:20260425T130216
CREATED:20180524T173046Z
LAST-MODIFIED:20180524T173407Z
UID:542-1527328800-1527366600@cantabriaenrosa.com
SUMMARY:Tour Mujer Salud y Deporte.
DESCRIPTION:Tour Mujer Salud y Deporte. Visita el Stand de LIFEM. \n¡¡¡VEN A POR TÚ PULSERA LIFEM!!! \nAyudanos  para representar a España en Campeonato internacional de \nFlorencia. \nLugar: Plza. Pombo \nMañana de 10:00 a 14:30 h \nTarde     de 16:30 a 20:30 h
URL:https://cantabriaenrosa.com/event/tour-mujer-salud-y-deporte-plza-pombo-santander/
LOCATION:PLAZA POMBO SANTANDER\, Santander\, cantabria\, España
END:VEVENT
END:VCALENDAR