BEGIN:VCALENDAR
VERSION:2.0
PRODID:-//CANTABRIA EN ROSA - ECPv5.10.0//NONSGML v1.0//EN
CALSCALE:GREGORIAN
METHOD:PUBLISH
X-WR-CALNAME:CANTABRIA EN ROSA
X-ORIGINAL-URL:https://cantabriaenrosa.com
X-WR-CALDESC:Eventos para CANTABRIA EN ROSA
BEGIN:VTIMEZONE
TZID:Europe/Madrid
BEGIN:DAYLIGHT
TZOFFSETFROM:+0100
TZOFFSETTO:+0200
TZNAME:CEST
DTSTART:20190331T010000
END:DAYLIGHT
BEGIN:STANDARD
TZOFFSETFROM:+0200
TZOFFSETTO:+0100
TZNAME:CET
DTSTART:20191027T010000
END:STANDARD
END:VTIMEZONE
BEGIN:VEVENT
DTSTART;TZID=Europe/Madrid:20190412T203000
DTEND;TZID=Europe/Madrid:20190412T220000
DTSTAMP:20260425T043349
CREATED:20190327T143147Z
LAST-MODIFIED:20190403T100229Z
UID:1049-1555101000-1555106400@cantabriaenrosa.com
SUMMARY:XVIII Gala Deporte Piélagos
DESCRIPTION:El Ayuntamiento de Piélagos celebrará la XVIII edición de su Gala al mérito deportivo. \nEl acto tendrá lugar el viernes\, 12 de abril\, a partir de las 20:30 horas\, en el Polideportivo municipal ‘Fernando Expósito’ de Renedo. \nCantabria en Rosa acudirá para celebrar sus méritos como: \n-Medalla Bronce en el Campeonato de España de Septiembre 2018 de Dragón Boat en Trasona. \n-También contamos con la presencia de Cantabria en Rosa en el Festival de Florencia de la IBCPC en Julio de 2018. Allí acudieron 4 palistas representando a la asociación en el equipo de la Selección Nacional BCS de Dragón Boat. \nLa competición contó con 4.000 palistas BCS de todo el mundo\, ésta competición mundial se celebra cada 4 años. \n– Así como en los Festivales celebrados en Castelldefels y Torrevieja. \n 
URL:https://cantabriaenrosa.com/event/xviii-gala-deporte-pielagos/
LOCATION:Polideportivo municipal ‘Fernando Expósito’ de Renedo.\, Barrio las Cuartas\, 43\, Renedo\, cantabria\, 39470\, Spain
CATEGORIES:Eventos Deportivos
END:VEVENT
END:VCALENDAR